BEGIN:VCALENDAR
VERSION:2.0
PRODID:-//Adoption is a Loving Option - ECPv6.15.11//NONSGML v1.0//EN
CALSCALE:GREGORIAN
METHOD:PUBLISH
X-ORIGINAL-URL:https://www.adoptionisalovingoption.org
X-WR-CALDESC:Events for Adoption is a Loving Option
REFRESH-INTERVAL;VALUE=DURATION:PT1H
X-Robots-Tag:noindex
X-PUBLISHED-TTL:PT1H
BEGIN:VTIMEZONE
TZID:UTC
BEGIN:STANDARD
TZOFFSETFROM:+0000
TZOFFSETTO:+0000
TZNAME:UTC
DTSTART:20150101T000000
END:STANDARD
END:VTIMEZONE
BEGIN:VEVENT
DTSTART;TZID=UTC:20181011T190000
DTEND;TZID=UTC:20181011T203000
DTSTAMP:20260424T001521
CREATED:20171030T092201Z
LAST-MODIFIED:20171030T092201Z
UID:655-1539284400-1539289800@www.adoptionisalovingoption.org
SUMMARY:Adoption Support Group Meeting
DESCRIPTION:This group is open to anyone interested in learning more about the process of adopting children\, in the process of adopting a child\, or already a parent through adoption. Come meet and talk to caring\, supportive families that share their experience with the adoption process and parenting. Email us at info@adoptionisalovingoption.org. to attend and get any updates on meeting times and locations.
URL:https://www.adoptionisalovingoption.org/event/adoption-support-group-meeting-17/
LOCATION:Mary\, Mother of the Redeemer Church\, 1325 Upper State Road\, North Wales\, PA\, United States
END:VEVENT
BEGIN:VEVENT
DTSTART;TZID=UTC:20180913T190000
DTEND;TZID=UTC:20180913T203000
DTSTAMP:20260424T001521
CREATED:20171030T092111Z
LAST-MODIFIED:20171030T092111Z
UID:653-1536865200-1536870600@www.adoptionisalovingoption.org
SUMMARY:Adoption Support Group Meeting
DESCRIPTION:This group is open to anyone interested in learning more about the process of adopting children\, in the process of adopting a child\, or already a parent through adoption. Come meet and talk to caring\, supportive families that share their experience with the adoption process and parenting. Email us at info@adoptionisalovingoption.org. to attend and get any updates on meeting times and locations.
URL:https://www.adoptionisalovingoption.org/event/adoption-support-group-meeting-16/
LOCATION:Mary\, Mother of the Redeemer Church\, 1325 Upper State Road\, North Wales\, PA\, United States
END:VEVENT
BEGIN:VEVENT
DTSTART;TZID=UTC:20180809T190000
DTEND;TZID=UTC:20180809T203000
DTSTAMP:20260424T001521
CREATED:20171030T092017Z
LAST-MODIFIED:20171030T092017Z
UID:651-1533841200-1533846600@www.adoptionisalovingoption.org
SUMMARY:Adoption Support Group Meeting
DESCRIPTION:This group is open to anyone interested in learning more about the process of adopting children\, in the process of adopting a child\, or already a parent through adoption. Come meet and talk to caring\, supportive families that share their experience with the adoption process and parenting. Email us at info@adoptionisalovingoption.org. to attend and get any updates on meeting times and locations.
URL:https://www.adoptionisalovingoption.org/event/adoption-support-group-meeting-15/
LOCATION:Mary\, Mother of the Redeemer Church\, 1325 Upper State Road\, North Wales\, PA\, United States
END:VEVENT
BEGIN:VEVENT
DTSTART;TZID=UTC:20180712T190000
DTEND;TZID=UTC:20180712T203000
DTSTAMP:20260424T001521
CREATED:20171030T091928Z
LAST-MODIFIED:20171030T091928Z
UID:649-1531422000-1531427400@www.adoptionisalovingoption.org
SUMMARY:Adoption Support Group Meeting
DESCRIPTION:This group is open to anyone interested in learning more about the process of adopting children\, in the process of adopting a child\, or already a parent through adoption. Come meet and talk to caring\, supportive families that share their experience with the adoption process and parenting. Email us at info@adoptionisalovingoption.org. to attend and get any updates on meeting times and locations.
URL:https://www.adoptionisalovingoption.org/event/adoption-support-group-meeting-14/
LOCATION:Mary\, Mother of the Redeemer Church\, 1325 Upper State Road\, North Wales\, PA\, United States
END:VEVENT
BEGIN:VEVENT
DTSTART;TZID=UTC:20180614T190000
DTEND;TZID=UTC:20180614T203000
DTSTAMP:20260424T001521
CREATED:20171030T091834Z
LAST-MODIFIED:20171030T091834Z
UID:647-1529002800-1529008200@www.adoptionisalovingoption.org
SUMMARY:Adoption Support Group Meeting
DESCRIPTION:This group is open to anyone interested in learning more about the process of adopting children\, in the process of adopting a child\, or already a parent through adoption. Come meet and talk to caring\, supportive families that share their experience with the adoption process and parenting. Email us at info@adoptionisalovingoption.org. to attend and get any updates on meeting times and locations.
URL:https://www.adoptionisalovingoption.org/event/adoption-support-group-meeting-13/
LOCATION:Mary\, Mother of the Redeemer Church\, 1325 Upper State Road\, North Wales\, PA\, United States
END:VEVENT
BEGIN:VEVENT
DTSTART;TZID=UTC:20180510T190000
DTEND;TZID=UTC:20180510T203000
DTSTAMP:20260424T001521
CREATED:20171030T091740Z
LAST-MODIFIED:20171030T091740Z
UID:645-1525978800-1525984200@www.adoptionisalovingoption.org
SUMMARY:Adoption Support Group Meeting
DESCRIPTION:This group is open to anyone interested in learning more about the process of adopting children\, in the process of adopting a child\, or already a parent through adoption. Come meet and talk to caring\, supportive families that share their experience with the adoption process and parenting. Email us at info@adoptionisalovingoption.org. to attend and get any updates on meeting times and locations.
URL:https://www.adoptionisalovingoption.org/event/adoption-support-group-meeting-12/
LOCATION:Mary\, Mother of the Redeemer Church\, 1325 Upper State Road\, North Wales\, PA\, United States
END:VEVENT
BEGIN:VEVENT
DTSTART;TZID=UTC:20180412T190000
DTEND;TZID=UTC:20180412T203000
DTSTAMP:20260424T001521
CREATED:20171030T091643Z
LAST-MODIFIED:20171030T091643Z
UID:643-1523559600-1523565000@www.adoptionisalovingoption.org
SUMMARY:Adoption Support Group Meeting
DESCRIPTION:This group is open to anyone interested in learning more about the process of adopting children\, in the process of adopting a child\, or already a parent through adoption. Come meet and talk to caring\, supportive families that share their experience with the adoption process and parenting. Email us at info@adoptionisalovingoption.org. to attend and get any updates on meeting times and locations.
URL:https://www.adoptionisalovingoption.org/event/adoption-support-group-meeting-11/
LOCATION:Mary\, Mother of the Redeemer Church\, 1325 Upper State Road\, North Wales\, PA\, United States
END:VEVENT
BEGIN:VEVENT
DTSTART;TZID=UTC:20180308T190000
DTEND;TZID=UTC:20180308T203000
DTSTAMP:20260424T001521
CREATED:20171030T091545Z
LAST-MODIFIED:20171030T091545Z
UID:641-1520535600-1520541000@www.adoptionisalovingoption.org
SUMMARY:Adoption Support Group Meeting
DESCRIPTION:This group is open to anyone interested in learning more about the process of adopting children\, in the process of adopting a child\, or already a parent through adoption. Come meet and talk to caring\, supportive families that share their experience with the adoption process and parenting. Email us at info@adoptionisalovingoption.org. to attend and get any updates on meeting times and locations.
URL:https://www.adoptionisalovingoption.org/event/adoption-support-group-meeting-10/
LOCATION:Mary\, Mother of the Redeemer Church\, 1325 Upper State Road\, North Wales\, PA\, United States
END:VEVENT
BEGIN:VEVENT
DTSTART;TZID=UTC:20180208T190000
DTEND;TZID=UTC:20180208T203000
DTSTAMP:20260424T001521
CREATED:20171030T091454Z
LAST-MODIFIED:20171030T091454Z
UID:639-1518116400-1518121800@www.adoptionisalovingoption.org
SUMMARY:Adoption Support Group Meeting
DESCRIPTION:This group is open to anyone interested in learning more about the process of adopting children\, in the process of adopting a child\, or already a parent through adoption. Come meet and talk to caring\, supportive families that share their experience with the adoption process and parenting. Email us at info@adoptionisalovingoption.org. to attend and get any updates on meeting times and locations.
URL:https://www.adoptionisalovingoption.org/event/adoption-support-group-meeting-9/
LOCATION:Mary\, Mother of the Redeemer Church\, 1325 Upper State Road\, North Wales\, PA\, United States
END:VEVENT
BEGIN:VEVENT
DTSTART;TZID=UTC:20180111T190000
DTEND;TZID=UTC:20180111T203000
DTSTAMP:20260424T001521
CREATED:20171030T091249Z
LAST-MODIFIED:20171030T091249Z
UID:637-1515697200-1515702600@www.adoptionisalovingoption.org
SUMMARY:Adoption Support Group Meeting
DESCRIPTION:This group is open to anyone interested in learning more about the process of adopting children\, in the process of adopting a child\, or already a parent through adoption. Come meet and talk to caring\, supportive families that share their experience with the adoption process and parenting. Email us at info@adoptionisalovingoption.org. to attend and get any updates on meeting times and locations.
URL:https://www.adoptionisalovingoption.org/event/adoption-support-group-meeting-8/
LOCATION:Mary\, Mother of the Redeemer Church\, 1325 Upper State Road\, North Wales\, PA\, United States
END:VEVENT
BEGIN:VEVENT
DTSTART;TZID=UTC:20171214T190000
DTEND;TZID=UTC:20171214T210000
DTSTAMP:20260424T001521
CREATED:20171030T092731Z
LAST-MODIFIED:20171030T092731Z
UID:659-1513278000-1513285200@www.adoptionisalovingoption.org
SUMMARY:Adoption Support Group - Annual Holiday Dinner
DESCRIPTION:NO REGULAR MEETING THIS MONTH.  This month we’ll have our annual holiday dinner in place of our monthly meeting. \nThis group is open to anyone interested in learning more about the process of adopting children\, in the process of adopting a child\, or already a parent through adoption. Come meet and talk to caring\, supportive families that share their experience with the adoption process and parenting. Email us at info@adoptionisalovingoption.org to attend and get any updates on meeting times and locations.
URL:https://www.adoptionisalovingoption.org/event/adoption-support-group-annual-holiday-dinner-2/
LOCATION:TBD
END:VEVENT
BEGIN:VEVENT
DTSTART;TZID=UTC:20171109T190000
DTEND;TZID=UTC:20171109T203000
DTSTAMP:20260424T001521
CREATED:20171030T091027Z
LAST-MODIFIED:20171030T091027Z
UID:635-1510254000-1510259400@www.adoptionisalovingoption.org
SUMMARY:Adoption Support Group Meeting
DESCRIPTION:This group is open to anyone interested in learning more about the process of adopting children\, in the process of adopting a child\, or already a parent through adoption. Come meet and talk to caring\, supportive families that share their experience with the adoption process and parenting. Email us at info@adoptionisalovingoption.org. to attend and get any updates on meeting times and locations.
URL:https://www.adoptionisalovingoption.org/event/adoption-support-group-meeting-7/
LOCATION:Mary\, Mother of the Redeemer Church\, 1325 Upper State Road\, North Wales\, PA\, United States
END:VEVENT
BEGIN:VEVENT
DTSTART;TZID=UTC:20170923T110000
DTEND;TZID=UTC:20170923T140000
DTSTAMP:20260424T001521
CREATED:20170328T015107Z
LAST-MODIFIED:20170328T015107Z
UID:627-1506164400-1506175200@www.adoptionisalovingoption.org
SUMMARY:Adoptive Family Picnic
DESCRIPTION:Join us at the next regional Adoptive Family Picnic. It’s great fun and a great way to meet other families interested in adoption and/or touched by adoption. This event is sponsored by American Adoptions (so it’s free!).  All are welcome even if you’ve never used the services of American Adoptions. \nPre-registration is required.  To pre-register\, email Elexx Feyh at elexx.f@americanadoptions.com or call 1-800-ADOPTION. \nIf you would please provide the following information\, we would be happy to add your name to our list of attendees. \n1) First and last name of all attendees (including children and their age(s)) \n2) If you adopted through American Adoptions\, what year? \n3) If not\, are you currently an active family with our agency? \nIf you have additional questions regarding this event\, you may email Elexx Feyh at elexx.f@americanadoptions.com or call 1-800-ADOPTION.
URL:https://www.adoptionisalovingoption.org/event/adoptive-family-picnic/
LOCATION:Kid’s Castle\, 425 Wells Rd\, Doylestown\, PA\, 18901\, United States
END:VEVENT
BEGIN:VEVENT
DTSTART;TZID=UTC:20170605T190000
DTEND;TZID=UTC:20170605T203000
DTSTAMP:20260424T001521
CREATED:20161027T131408Z
LAST-MODIFIED:20161027T131408Z
UID:621-1496689200-1496694600@www.adoptionisalovingoption.org
SUMMARY:Adoption Support Group Meeting
DESCRIPTION:This group is open to anyone interested in learning more about the process of adopting children\, in the process of adopting a child\, or already a parent through adoption.  Come meet and talk to caring\, supportive families that share their experience with the adoption process and parenting.  Email us at info@adoptionisalovingoption.org to attend and get any updates on meeting times and locations.
URL:https://www.adoptionisalovingoption.org/event/adoption-support-group-meeting-6/
LOCATION:Mary\, Mother of the Redeemer Church\, 1325 Upper State Road\, North Wales\, PA\, United States
END:VEVENT
BEGIN:VEVENT
DTSTART;TZID=UTC:20170501T190000
DTEND;TZID=UTC:20170501T203000
DTSTAMP:20260424T001521
CREATED:20161027T131202Z
LAST-MODIFIED:20170328T012128Z
UID:619-1493665200-1493670600@www.adoptionisalovingoption.org
SUMMARY:Adoption Support Group
DESCRIPTION:This group is open to anyone interested in learning more about the process of adopting children\, in the process of adopting a child\, or already a parent through adoption.  Come meet and talk to caring\, supportive families that share their experience with the adoption process and parenting.  Email us at info@adoptionisalovingoption.org to attend and get any updates on meeting times and locations.
URL:https://www.adoptionisalovingoption.org/event/adoption-support-group/
LOCATION:Mary\, Mother of the Redeemer Church\, 1325 Upper State Road\, North Wales\, PA\, United States
END:VEVENT
BEGIN:VEVENT
DTSTART;TZID=UTC:20170403T190000
DTEND;TZID=UTC:20170403T203000
DTSTAMP:20260424T001521
CREATED:20161027T131034Z
LAST-MODIFIED:20161027T131034Z
UID:617-1491246000-1491251400@www.adoptionisalovingoption.org
SUMMARY:Adoption Support Group Meeting
DESCRIPTION:This group is open to anyone interested in learning more about the process of adopting children\, in the process of adopting a child\, or already a parent through adoption.  Come meet and talk to caring\, supportive families that share their experience with the adoption process and parenting.  Email us at info@adoptionisalovingoption.org to attend and get any updates on meeting times and locations.
URL:https://www.adoptionisalovingoption.org/event/adoption-support-group-meeting-5/
LOCATION:Mary\, Mother of the Redeemer Church\, 1325 Upper State Road\, North Wales\, PA\, United States
END:VEVENT
BEGIN:VEVENT
DTSTART;TZID=UTC:20170306T190000
DTEND;TZID=UTC:20170306T203000
DTSTAMP:20260424T001521
CREATED:20161027T130929Z
LAST-MODIFIED:20161027T130929Z
UID:615-1488826800-1488832200@www.adoptionisalovingoption.org
SUMMARY:Adoption Support Group Meeting
DESCRIPTION:This group is open to anyone interested in learning more about the process of adopting children\, in the process of adopting a child\, or already a parent through adoption.  Come meet and talk to caring\, supportive families that share their experience with the adoption process and parenting.  Email us at info@adoptionisalovingoption.org to attend and get any updates on meeting times and locations.
URL:https://www.adoptionisalovingoption.org/event/adoption-support-group-meeting-4/
LOCATION:Mary\, Mother of the Redeemer Church\, 1325 Upper State Road\, North Wales\, PA\, United States
END:VEVENT
BEGIN:VEVENT
DTSTART;TZID=UTC:20170206T190000
DTEND;TZID=UTC:20170206T203000
DTSTAMP:20260424T001521
CREATED:20161027T130440Z
LAST-MODIFIED:20161027T130507Z
UID:613-1486407600-1486413000@www.adoptionisalovingoption.org
SUMMARY:Adoption Support Group Meeting
DESCRIPTION:This group is open to anyone interested in learning more about the process of adopting children\, in the process of adopting a child\, or already a parent through adoption.  Come meet and talk to caring\, supportive families that share their experience with the adoption process and parenting.  Email us at info@adoptionisalovingoption.org to attend and get any updates on meeting times and locations.
URL:https://www.adoptionisalovingoption.org/event/adoption-support-group-meeting-3/
LOCATION:Mary\, Mother of the Redeemer Church\, 1325 Upper State Road\, North Wales\, PA\, United States
END:VEVENT
BEGIN:VEVENT
DTSTART;TZID=UTC:20170109T190000
DTEND;TZID=UTC:20170109T203000
DTSTAMP:20260424T001521
CREATED:20161027T130222Z
LAST-MODIFIED:20161027T130644Z
UID:611-1483988400-1483993800@www.adoptionisalovingoption.org
SUMMARY:Adoption Support Group Meeting
DESCRIPTION:This group is open to anyone interested in learning more about the process of adopting children\, in the process of adopting a child\, or already a parent through adoption.  Come meet and talk to caring\, supportive families that share their experience with the adoption process and parenting.  Email us at info@adoptionisalovingoption.org to attend and get any updates on meeting times and locations.
URL:https://www.adoptionisalovingoption.org/event/adoption-support-group-meeting-2/
LOCATION:Mary\, Mother of the Redeemer Church\, 1325 Upper State Road\, North Wales\, PA\, United States
END:VEVENT
BEGIN:VEVENT
DTSTART;TZID=UTC:20161205T190000
DTEND;TZID=UTC:20161205T210000
DTSTAMP:20260424T001521
CREATED:20161027T125945Z
LAST-MODIFIED:20161027T125945Z
UID:607-1480964400-1480971600@www.adoptionisalovingoption.org
SUMMARY:Adoption Support Group - Annual Holiday Dinner
DESCRIPTION:This month we’ll have a dinner in place of our monthly meeting.  Location TBD.   \nThis group is open to anyone interested in learning more about the process of adopting children\, in the process of adopting a child\, or already a parent through adoption.  Come meet and talk to caring\, supportive families that share their experience with the adoption process and parenting.  Email us at info@adoptionisalovingoption.org to attend and get any updates on meeting times and locations.
URL:https://www.adoptionisalovingoption.org/event/adoption-support-group-annual-holiday-dinner/
LOCATION:TBD
END:VEVENT
BEGIN:VEVENT
DTSTART;TZID=UTC:20161107T190000
DTEND;TZID=UTC:20161107T203000
DTSTAMP:20260424T001521
CREATED:20161027T125451Z
LAST-MODIFIED:20161027T132337Z
UID:605-1478545200-1478550600@www.adoptionisalovingoption.org
SUMMARY:Adoption Support Group Meeting
DESCRIPTION:This group is open to anyone interested in learning more about the process of adopting children\, in the process of adopting a child\, or already a parent through adoption.  Come meet and talk to caring\, supportive families that share their experience with the adoption process and parenting.  Email us at info@adoptionisalovingoption.org. to attend and get any updates on meeting times and locations.
URL:https://www.adoptionisalovingoption.org/event/adoption-support-group-meeting/
LOCATION:Mary\, Mother of the Redeemer Church\, 1325 Upper State Road\, North Wales\, PA\, United States
END:VEVENT
END:VCALENDAR