BEGIN:VCALENDAR
VERSION:2.0
PRODID:-//Adoption is a Loving Option - ECPv6.15.11//NONSGML v1.0//EN
CALSCALE:GREGORIAN
METHOD:PUBLISH
X-ORIGINAL-URL:https://www.adoptionisalovingoption.org
X-WR-CALDESC:Events for Adoption is a Loving Option
REFRESH-INTERVAL;VALUE=DURATION:PT1H
X-Robots-Tag:noindex
X-PUBLISHED-TTL:PT1H
BEGIN:VTIMEZONE
TZID:UTC
BEGIN:STANDARD
TZOFFSETFROM:+0000
TZOFFSETTO:+0000
TZNAME:UTC
DTSTART:20170101T000000
END:STANDARD
END:VTIMEZONE
BEGIN:VEVENT
DTSTART;TZID=UTC:20210311T190000
DTEND;TZID=UTC:20210311T203000
DTSTAMP:20260423T204057
CREATED:20201027T145140Z
LAST-MODIFIED:20201027T145140Z
UID:874-1615489200-1615494600@www.adoptionisalovingoption.org
SUMMARY:Adoption Support Group Meeting (Virtual)
DESCRIPTION:We’re meeting virtually! Join us! \nThis group is open to anyone interested in learning more about the process of adopting children\, in the process of adopting a child\, or already a parent through adoption. Come meet and talk to caring\, supportive families that share their experience with the adoption process and parenting. \nEmail us at info@adoptionisalovingoption.org to attend and get any updates on meeting times and locations.
URL:https://www.adoptionisalovingoption.org/event/adoption-support-group-meeting-virtual-6/
END:VEVENT
BEGIN:VEVENT
DTSTART;TZID=UTC:20210211T190000
DTEND;TZID=UTC:20210211T203000
DTSTAMP:20260423T204057
CREATED:20201027T145203Z
LAST-MODIFIED:20201027T145203Z
UID:870-1613070000-1613075400@www.adoptionisalovingoption.org
SUMMARY:Adoption Support Group Meeting (Virtual)
DESCRIPTION:We’re meeting virtually! Join us! \nThis group is open to anyone interested in learning more about the process of adopting children\, in the process of adopting a child\, or already a parent through adoption. Come meet and talk to caring\, supportive families that share their experience with the adoption process and parenting. \nEmail us at info@adoptionisalovingoption.org to attend and get any updates on meeting times and locations.
URL:https://www.adoptionisalovingoption.org/event/adoption-support-group-meeting-virtual-7/
END:VEVENT
BEGIN:VEVENT
DTSTART;TZID=UTC:20210114T190000
DTEND;TZID=UTC:20210114T203000
DTSTAMP:20260423T204057
CREATED:20201027T145227Z
LAST-MODIFIED:20201027T145227Z
UID:868-1610650800-1610656200@www.adoptionisalovingoption.org
SUMMARY:Adoption Support Group Meeting (Virtual)
DESCRIPTION:We’re meeting virtually! Join us! \nThis group is open to anyone interested in learning more about the process of adopting children\, in the process of adopting a child\, or already a parent through adoption. Come meet and talk to caring\, supportive families that share their experience with the adoption process and parenting. \nEmail us at info@adoptionisalovingoption.org to attend and get any updates on meeting times and locations.
URL:https://www.adoptionisalovingoption.org/event/adoption-support-group-meeting-virtual-8/
END:VEVENT
BEGIN:VEVENT
DTSTART;TZID=UTC:20201210T190000
DTEND;TZID=UTC:20201210T203000
DTSTAMP:20260423T204057
CREATED:20201027T143254Z
LAST-MODIFIED:20201027T143718Z
UID:864-1607626800-1607632200@www.adoptionisalovingoption.org
SUMMARY:Adoption Support Group Meeting (Virtual)
DESCRIPTION:We’re meeting virtually! Join us! \nThis group is open to anyone interested in learning more about the process of adopting children\, in the process of adopting a child\, or already a parent through adoption. Come meet and talk to caring\, supportive families that share their experience with the adoption process and parenting. \nEmail us at info@adoptionisalovingoption.org to attend and get any updates on meeting times and locations.
URL:https://www.adoptionisalovingoption.org/event/adoption-support-group-meeting-virtual-2/
END:VEVENT
BEGIN:VEVENT
DTSTART;TZID=UTC:20201112T190000
DTEND;TZID=UTC:20201112T203000
DTSTAMP:20260423T204057
CREATED:20201027T143427Z
LAST-MODIFIED:20201027T143604Z
UID:866-1605207600-1605213000@www.adoptionisalovingoption.org
SUMMARY:Adoption Support Group Meeting (Virtual)
DESCRIPTION:We’re meeting virtually! Join us! \nThis group is open to anyone interested in learning more about the process of adopting children\, in the process of adopting a child\, or already a parent through adoption. Come meet and talk to caring\, supportive families that share their experience with the adoption process and parenting. \nEmail us at info@adoptionisalovingoption.org to attend and get any updates on meeting times and locations.
URL:https://www.adoptionisalovingoption.org/event/adoption-support-group-meeting-virtual-3/
END:VEVENT
BEGIN:VEVENT
DTSTART;TZID=UTC:20200611T190000
DTEND;TZID=UTC:20200611T203000
DTSTAMP:20260423T204057
CREATED:20190715T172831Z
LAST-MODIFIED:20190715T174530Z
UID:838-1591902000-1591907400@www.adoptionisalovingoption.org
SUMMARY:Adoption Support Group Meeting
DESCRIPTION:This group is open to anyone interested in learning more about the process of adopting children\, in the process of adopting a child\, or already a parent through adoption. Come meet and talk to caring\, supportive families that share their experience with the adoption process and parenting. Email us at info@adoptionisalovingoption.org to attend and get any updates on meeting times and locations.
URL:https://www.adoptionisalovingoption.org/event/adoption-support-group-9/
LOCATION:Mary\, Mother of the Redeemer Church\, 1325 Upper State Road\, North Wales\, PA\, United States
END:VEVENT
BEGIN:VEVENT
DTSTART;TZID=UTC:20200514T190000
DTEND;TZID=UTC:20200514T203000
DTSTAMP:20260423T204057
CREATED:20190715T172733Z
LAST-MODIFIED:20190715T174521Z
UID:836-1589482800-1589488200@www.adoptionisalovingoption.org
SUMMARY:Adoption Support Group  Meeting
DESCRIPTION:This group is open to anyone interested in learning more about the process of adopting children\, in the process of adopting a child\, or already a parent through adoption. Come meet and talk to caring\, supportive families that share their experience with the adoption process and parenting. Email us at info@adoptionisalovingoption.org to attend and get any updates on meeting times and locations.
URL:https://www.adoptionisalovingoption.org/event/adoption-support-group-8/
LOCATION:Mary\, Mother of the Redeemer Church\, 1325 Upper State Road\, North Wales\, PA\, United States
END:VEVENT
BEGIN:VEVENT
DTSTART;TZID=UTC:20200416T190000
DTEND;TZID=UTC:20200416T203000
DTSTAMP:20260423T204057
CREATED:20190715T172639Z
LAST-MODIFIED:20200304T194333Z
UID:834-1587063600-1587069000@www.adoptionisalovingoption.org
SUMMARY:Adoption Support Group Meeting
DESCRIPTION:This group is open to anyone interested in learning more about the process of adopting children\, in the process of adopting a child\, or already a parent through adoption. Come meet and talk to caring\, supportive families that share their experience with the adoption process and parenting. Email us at info@adoptionisalovingoption.org to attend and get any updates on meeting times and locations.
URL:https://www.adoptionisalovingoption.org/event/adoption-support-group-7/
LOCATION:Mary\, Mother of the Redeemer Church\, 1325 Upper State Road\, North Wales\, PA\, United States
END:VEVENT
BEGIN:VEVENT
DTSTART;TZID=UTC:20200319T190000
DTEND;TZID=UTC:20200319T203000
DTSTAMP:20260423T204057
CREATED:20190715T172549Z
LAST-MODIFIED:20200304T194409Z
UID:832-1584644400-1584649800@www.adoptionisalovingoption.org
SUMMARY:Adoption Support Group Meeting
DESCRIPTION:This group is open to anyone interested in learning more about the process of adopting children\, in the process of adopting a child\, or already a parent through adoption. Come meet and talk to caring\, supportive families that share their experience with the adoption process and parenting. Email us at info@adoptionisalovingoption.org to attend and get any updates on meeting times and locations.
URL:https://www.adoptionisalovingoption.org/event/adoption-support-group-6/
LOCATION:Mary\, Mother of the Redeemer Church\, 1325 Upper State Road\, North Wales\, PA\, United States
END:VEVENT
BEGIN:VEVENT
DTSTART;TZID=UTC:20200213T190000
DTEND;TZID=UTC:20200213T203000
DTSTAMP:20260423T204057
CREATED:20190715T172455Z
LAST-MODIFIED:20190715T174455Z
UID:830-1581620400-1581625800@www.adoptionisalovingoption.org
SUMMARY:Adoption Support Group Meeting
DESCRIPTION:This group is open to anyone interested in learning more about the process of adopting children\, in the process of adopting a child\, or already a parent through adoption. Come meet and talk to caring\, supportive families that share their experience with the adoption process and parenting. Email us at info@adoptionisalovingoption.org to attend and get any updates on meeting times and locations.
URL:https://www.adoptionisalovingoption.org/event/adoption-support-group-5/
LOCATION:Mary\, Mother of the Redeemer Church\, 1325 Upper State Road\, North Wales\, PA\, United States
END:VEVENT
BEGIN:VEVENT
DTSTART;TZID=UTC:20200109T190000
DTEND;TZID=UTC:20200109T203000
DTSTAMP:20260423T204057
CREATED:20190715T172406Z
LAST-MODIFIED:20190715T174442Z
UID:827-1578596400-1578601800@www.adoptionisalovingoption.org
SUMMARY:Adoption Support Group Meeting
DESCRIPTION:This group is open to anyone interested in learning more about the process of adopting children\, in the process of adopting a child\, or already a parent through adoption. Come meet and talk to caring\, supportive families that share their experience with the adoption process and parenting. Email us at info@adoptionisalovingoption.org to attend and get any updates on meeting times and locations.
URL:https://www.adoptionisalovingoption.org/event/adoption-support-group-4/
LOCATION:Mary\, Mother of the Redeemer Church\, 1325 Upper State Road\, North Wales\, PA\, United States
END:VEVENT
BEGIN:VEVENT
DTSTART;TZID=UTC:20191114T190000
DTEND;TZID=UTC:20191114T203000
DTSTAMP:20260423T204057
CREATED:20190715T172001Z
LAST-MODIFIED:20190715T174428Z
UID:825-1573758000-1573763400@www.adoptionisalovingoption.org
SUMMARY:Adoption Support Group Meeting
DESCRIPTION:This group is open to anyone interested in learning more about the process of adopting children\, in the process of adopting a child\, or already a parent through adoption. Come meet and talk to caring\, supportive families that share their experience with the adoption process and parenting. Email us at info@adoptionisalovingoption.org to attend and get any updates on meeting times and locations.
URL:https://www.adoptionisalovingoption.org/event/adoption-support-group-3/
LOCATION:Mary\, Mother of the Redeemer Church\, 1325 Upper State Road\, North Wales\, PA\, United States
END:VEVENT
BEGIN:VEVENT
DTSTART;TZID=UTC:20191010T190000
DTEND;TZID=UTC:20191010T203000
DTSTAMP:20260423T204057
CREATED:20190715T171857Z
LAST-MODIFIED:20190715T174417Z
UID:823-1570734000-1570739400@www.adoptionisalovingoption.org
SUMMARY:Adoption Support Group Meeting
DESCRIPTION:This group is open to anyone interested in learning more about the process of adopting children\, in the process of adopting a child\, or already a parent through adoption. Come meet and talk to caring\, supportive families that share their experience with the adoption process and parenting. Email us at info@adoptionisalovingoption.org to attend and get any updates on meeting times and locations.
URL:https://www.adoptionisalovingoption.org/event/adoption-support-group-2/
LOCATION:Mary\, Mother of the Redeemer Church\, 1325 Upper State Road\, North Wales\, PA\, United States
END:VEVENT
BEGIN:VEVENT
DTSTART;TZID=UTC:20190914T090000
DTEND;TZID=UTC:20190914T120000
DTSTAMP:20260423T204057
CREATED:20190715T175344Z
LAST-MODIFIED:20190715T175344Z
UID:852-1568451600-1568462400@www.adoptionisalovingoption.org
SUMMARY:Adoptive Family Get Together
DESCRIPTION:Join us at the next regional Adoptive Family Get Together. It’s great fun and a great way to meet other families interested in adoption and/or touched by adoption. This event is sponsored by American Adoptions (so it’s free!).  All are welcome even if you’ve never used the services of American Adoptions. \nPre-registration is required. To pre-register\, email Samantha Bergeron at samantha.b@americanadoptions.com or call 1-800-ADOPTION. \nIf you would please provide the following information\, we would be happy to add your name to our list of attendees. \n\nFirst and last name of all attendees (including children and their age(s))\nIf you adopted through American Adoptions\, what year?\nIf not\, are you currently an active family with our agency?\n\nIf you have additional questions regarding this event\, you may email Samantha Bergeron at samantha.b@americanadoptions.com or call 1-800-ADOPTION.
URL:https://www.adoptionisalovingoption.org/event/adoptive-family-get-together/
LOCATION:Kid’s Castle\, 425 Wells Rd\, Doylestown\, PA\, 18901\, United States
END:VEVENT
BEGIN:VEVENT
DTSTART;TZID=UTC:20190912T190000
DTEND;TZID=UTC:20190912T203000
DTSTAMP:20260423T204057
CREATED:20190715T171455Z
LAST-MODIFIED:20190715T171804Z
UID:820-1568314800-1568320200@www.adoptionisalovingoption.org
SUMMARY:Adoption Support Group Meeting
DESCRIPTION:This group is open to anyone interested in learning more about the process of adopting children\, in the process of adopting a child\, or already a parent through adoption. Come meet and talk to caring\, supportive families that share their experience with the adoption process and parenting. Email us at info@adoptionisalovingoption.org to attend and get any updates on meeting times and locations.
URL:https://www.adoptionisalovingoption.org/event/adoption-support-group-meeting-23/
LOCATION:Mary\, Mother of the Redeemer Church\, 1325 Upper State Road\, North Wales\, PA\, United States
END:VEVENT
BEGIN:VEVENT
DTSTART;TZID=UTC:20190613T190000
DTEND;TZID=UTC:20190613T203000
DTSTAMP:20260423T204057
CREATED:20190215T192740Z
LAST-MODIFIED:20190215T192740Z
UID:669-1560452400-1560457800@www.adoptionisalovingoption.org
SUMMARY:Adoption Support Group Meeting
DESCRIPTION:This group is open to anyone interested in learning more about the process of adopting children\, in the process of adopting a child\, or already a parent through adoption. Come meet and talk to caring\, supportive families that share their experience with the adoption process and parenting. Email us at info@adoptionisalovingoption.org. to attend and get any updates on meeting times and locations.
URL:https://www.adoptionisalovingoption.org/event/adoption-support-group-meeting-19/
LOCATION:Mary\, Mother of the Redeemer Church\, 1325 Upper State Road\, North Wales\, PA\, United States
END:VEVENT
BEGIN:VEVENT
DTSTART;TZID=UTC:20190509T190000
DTEND;TZID=UTC:20190509T203000
DTSTAMP:20260423T204057
CREATED:20190215T192912Z
LAST-MODIFIED:20190215T192912Z
UID:667-1557428400-1557433800@www.adoptionisalovingoption.org
SUMMARY:Adoption Support Group Meeting
DESCRIPTION:This group is open to anyone interested in learning more about the process of adopting children\, in the process of adopting a child\, or already a parent through adoption. Come meet and talk to caring\, supportive families that share their experience with the adoption process and parenting. Email us at info@adoptionisalovingoption.org. to attend and get any updates on meeting times and locations.
URL:https://www.adoptionisalovingoption.org/event/adoption-support-group-meeting-20/
LOCATION:Mary\, Mother of the Redeemer Church\, 1325 Upper State Road\, North Wales\, PA\, United States
END:VEVENT
BEGIN:VEVENT
DTSTART;TZID=UTC:20190411T190000
DTEND;TZID=UTC:20190411T203000
DTSTAMP:20260423T204057
CREATED:20190215T192938Z
LAST-MODIFIED:20190215T192938Z
UID:665-1555009200-1555014600@www.adoptionisalovingoption.org
SUMMARY:Adoption Support Group Meeting
DESCRIPTION:This group is open to anyone interested in learning more about the process of adopting children\, in the process of adopting a child\, or already a parent through adoption. Come meet and talk to caring\, supportive families that share their experience with the adoption process and parenting. Email us at info@adoptionisalovingoption.org. to attend and get any updates on meeting times and locations.
URL:https://www.adoptionisalovingoption.org/event/adoption-support-group-meeting-21/
LOCATION:Mary\, Mother of the Redeemer Church\, 1325 Upper State Road\, North Wales\, PA\, United States
END:VEVENT
BEGIN:VEVENT
DTSTART;TZID=UTC:20190314T190000
DTEND;TZID=UTC:20190314T203000
DTSTAMP:20260423T204057
CREATED:20190215T193000Z
LAST-MODIFIED:20190215T193000Z
UID:663-1552590000-1552595400@www.adoptionisalovingoption.org
SUMMARY:Adoption Support Group Meeting
DESCRIPTION:This group is open to anyone interested in learning more about the process of adopting children\, in the process of adopting a child\, or already a parent through adoption. Come meet and talk to caring\, supportive families that share their experience with the adoption process and parenting. Email us at info@adoptionisalovingoption.org. to attend and get any updates on meeting times and locations.
URL:https://www.adoptionisalovingoption.org/event/adoption-support-group-meeting-22/
LOCATION:Mary\, Mother of the Redeemer Church\, 1325 Upper State Road\, North Wales\, PA\, United States
END:VEVENT
BEGIN:VEVENT
DTSTART;TZID=UTC:20181108T190000
DTEND;TZID=UTC:20181108T203000
DTSTAMP:20260423T204057
CREATED:20171030T092301Z
LAST-MODIFIED:20171030T092301Z
UID:657-1541703600-1541709000@www.adoptionisalovingoption.org
SUMMARY:Adoption Support Group Meeting
DESCRIPTION:This group is open to anyone interested in learning more about the process of adopting children\, in the process of adopting a child\, or already a parent through adoption. Come meet and talk to caring\, supportive families that share their experience with the adoption process and parenting. Email us at info@adoptionisalovingoption.org. to attend and get any updates on meeting times and locations.
URL:https://www.adoptionisalovingoption.org/event/adoption-support-group-meeting-18/
LOCATION:Mary\, Mother of the Redeemer Church\, 1325 Upper State Road\, North Wales\, PA\, United States
END:VEVENT
BEGIN:VEVENT
DTSTART;TZID=UTC:20181011T190000
DTEND;TZID=UTC:20181011T203000
DTSTAMP:20260423T204057
CREATED:20171030T092201Z
LAST-MODIFIED:20171030T092201Z
UID:655-1539284400-1539289800@www.adoptionisalovingoption.org
SUMMARY:Adoption Support Group Meeting
DESCRIPTION:This group is open to anyone interested in learning more about the process of adopting children\, in the process of adopting a child\, or already a parent through adoption. Come meet and talk to caring\, supportive families that share their experience with the adoption process and parenting. Email us at info@adoptionisalovingoption.org. to attend and get any updates on meeting times and locations.
URL:https://www.adoptionisalovingoption.org/event/adoption-support-group-meeting-17/
LOCATION:Mary\, Mother of the Redeemer Church\, 1325 Upper State Road\, North Wales\, PA\, United States
END:VEVENT
BEGIN:VEVENT
DTSTART;TZID=UTC:20180913T190000
DTEND;TZID=UTC:20180913T203000
DTSTAMP:20260423T204057
CREATED:20171030T092111Z
LAST-MODIFIED:20171030T092111Z
UID:653-1536865200-1536870600@www.adoptionisalovingoption.org
SUMMARY:Adoption Support Group Meeting
DESCRIPTION:This group is open to anyone interested in learning more about the process of adopting children\, in the process of adopting a child\, or already a parent through adoption. Come meet and talk to caring\, supportive families that share their experience with the adoption process and parenting. Email us at info@adoptionisalovingoption.org. to attend and get any updates on meeting times and locations.
URL:https://www.adoptionisalovingoption.org/event/adoption-support-group-meeting-16/
LOCATION:Mary\, Mother of the Redeemer Church\, 1325 Upper State Road\, North Wales\, PA\, United States
END:VEVENT
BEGIN:VEVENT
DTSTART;TZID=UTC:20180809T190000
DTEND;TZID=UTC:20180809T203000
DTSTAMP:20260423T204057
CREATED:20171030T092017Z
LAST-MODIFIED:20171030T092017Z
UID:651-1533841200-1533846600@www.adoptionisalovingoption.org
SUMMARY:Adoption Support Group Meeting
DESCRIPTION:This group is open to anyone interested in learning more about the process of adopting children\, in the process of adopting a child\, or already a parent through adoption. Come meet and talk to caring\, supportive families that share their experience with the adoption process and parenting. Email us at info@adoptionisalovingoption.org. to attend and get any updates on meeting times and locations.
URL:https://www.adoptionisalovingoption.org/event/adoption-support-group-meeting-15/
LOCATION:Mary\, Mother of the Redeemer Church\, 1325 Upper State Road\, North Wales\, PA\, United States
END:VEVENT
BEGIN:VEVENT
DTSTART;TZID=UTC:20180712T190000
DTEND;TZID=UTC:20180712T203000
DTSTAMP:20260423T204057
CREATED:20171030T091928Z
LAST-MODIFIED:20171030T091928Z
UID:649-1531422000-1531427400@www.adoptionisalovingoption.org
SUMMARY:Adoption Support Group Meeting
DESCRIPTION:This group is open to anyone interested in learning more about the process of adopting children\, in the process of adopting a child\, or already a parent through adoption. Come meet and talk to caring\, supportive families that share their experience with the adoption process and parenting. Email us at info@adoptionisalovingoption.org. to attend and get any updates on meeting times and locations.
URL:https://www.adoptionisalovingoption.org/event/adoption-support-group-meeting-14/
LOCATION:Mary\, Mother of the Redeemer Church\, 1325 Upper State Road\, North Wales\, PA\, United States
END:VEVENT
BEGIN:VEVENT
DTSTART;TZID=UTC:20180614T190000
DTEND;TZID=UTC:20180614T203000
DTSTAMP:20260423T204057
CREATED:20171030T091834Z
LAST-MODIFIED:20171030T091834Z
UID:647-1529002800-1529008200@www.adoptionisalovingoption.org
SUMMARY:Adoption Support Group Meeting
DESCRIPTION:This group is open to anyone interested in learning more about the process of adopting children\, in the process of adopting a child\, or already a parent through adoption. Come meet and talk to caring\, supportive families that share their experience with the adoption process and parenting. Email us at info@adoptionisalovingoption.org. to attend and get any updates on meeting times and locations.
URL:https://www.adoptionisalovingoption.org/event/adoption-support-group-meeting-13/
LOCATION:Mary\, Mother of the Redeemer Church\, 1325 Upper State Road\, North Wales\, PA\, United States
END:VEVENT
BEGIN:VEVENT
DTSTART;TZID=UTC:20180510T190000
DTEND;TZID=UTC:20180510T203000
DTSTAMP:20260423T204057
CREATED:20171030T091740Z
LAST-MODIFIED:20171030T091740Z
UID:645-1525978800-1525984200@www.adoptionisalovingoption.org
SUMMARY:Adoption Support Group Meeting
DESCRIPTION:This group is open to anyone interested in learning more about the process of adopting children\, in the process of adopting a child\, or already a parent through adoption. Come meet and talk to caring\, supportive families that share their experience with the adoption process and parenting. Email us at info@adoptionisalovingoption.org. to attend and get any updates on meeting times and locations.
URL:https://www.adoptionisalovingoption.org/event/adoption-support-group-meeting-12/
LOCATION:Mary\, Mother of the Redeemer Church\, 1325 Upper State Road\, North Wales\, PA\, United States
END:VEVENT
BEGIN:VEVENT
DTSTART;TZID=UTC:20180412T190000
DTEND;TZID=UTC:20180412T203000
DTSTAMP:20260423T204057
CREATED:20171030T091643Z
LAST-MODIFIED:20171030T091643Z
UID:643-1523559600-1523565000@www.adoptionisalovingoption.org
SUMMARY:Adoption Support Group Meeting
DESCRIPTION:This group is open to anyone interested in learning more about the process of adopting children\, in the process of adopting a child\, or already a parent through adoption. Come meet and talk to caring\, supportive families that share their experience with the adoption process and parenting. Email us at info@adoptionisalovingoption.org. to attend and get any updates on meeting times and locations.
URL:https://www.adoptionisalovingoption.org/event/adoption-support-group-meeting-11/
LOCATION:Mary\, Mother of the Redeemer Church\, 1325 Upper State Road\, North Wales\, PA\, United States
END:VEVENT
BEGIN:VEVENT
DTSTART;TZID=UTC:20180308T190000
DTEND;TZID=UTC:20180308T203000
DTSTAMP:20260423T204057
CREATED:20171030T091545Z
LAST-MODIFIED:20171030T091545Z
UID:641-1520535600-1520541000@www.adoptionisalovingoption.org
SUMMARY:Adoption Support Group Meeting
DESCRIPTION:This group is open to anyone interested in learning more about the process of adopting children\, in the process of adopting a child\, or already a parent through adoption. Come meet and talk to caring\, supportive families that share their experience with the adoption process and parenting. Email us at info@adoptionisalovingoption.org. to attend and get any updates on meeting times and locations.
URL:https://www.adoptionisalovingoption.org/event/adoption-support-group-meeting-10/
LOCATION:Mary\, Mother of the Redeemer Church\, 1325 Upper State Road\, North Wales\, PA\, United States
END:VEVENT
BEGIN:VEVENT
DTSTART;TZID=UTC:20180208T190000
DTEND;TZID=UTC:20180208T203000
DTSTAMP:20260423T204057
CREATED:20171030T091454Z
LAST-MODIFIED:20171030T091454Z
UID:639-1518116400-1518121800@www.adoptionisalovingoption.org
SUMMARY:Adoption Support Group Meeting
DESCRIPTION:This group is open to anyone interested in learning more about the process of adopting children\, in the process of adopting a child\, or already a parent through adoption. Come meet and talk to caring\, supportive families that share their experience with the adoption process and parenting. Email us at info@adoptionisalovingoption.org. to attend and get any updates on meeting times and locations.
URL:https://www.adoptionisalovingoption.org/event/adoption-support-group-meeting-9/
LOCATION:Mary\, Mother of the Redeemer Church\, 1325 Upper State Road\, North Wales\, PA\, United States
END:VEVENT
BEGIN:VEVENT
DTSTART;TZID=UTC:20180111T190000
DTEND;TZID=UTC:20180111T203000
DTSTAMP:20260423T204057
CREATED:20171030T091249Z
LAST-MODIFIED:20171030T091249Z
UID:637-1515697200-1515702600@www.adoptionisalovingoption.org
SUMMARY:Adoption Support Group Meeting
DESCRIPTION:This group is open to anyone interested in learning more about the process of adopting children\, in the process of adopting a child\, or already a parent through adoption. Come meet and talk to caring\, supportive families that share their experience with the adoption process and parenting. Email us at info@adoptionisalovingoption.org. to attend and get any updates on meeting times and locations.
URL:https://www.adoptionisalovingoption.org/event/adoption-support-group-meeting-8/
LOCATION:Mary\, Mother of the Redeemer Church\, 1325 Upper State Road\, North Wales\, PA\, United States
END:VEVENT
END:VCALENDAR