BEGIN:VCALENDAR
VERSION:2.0
PRODID:-//Adoption is a Loving Option - ECPv6.15.11//NONSGML v1.0//EN
CALSCALE:GREGORIAN
METHOD:PUBLISH
X-ORIGINAL-URL:https://www.adoptionisalovingoption.org
X-WR-CALDESC:Events for Adoption is a Loving Option
REFRESH-INTERVAL;VALUE=DURATION:PT1H
X-Robots-Tag:noindex
X-PUBLISHED-TTL:PT1H
BEGIN:VTIMEZONE
TZID:UTC
BEGIN:STANDARD
TZOFFSETFROM:+0000
TZOFFSETTO:+0000
TZNAME:UTC
DTSTART:20190101T000000
END:STANDARD
END:VTIMEZONE
BEGIN:VEVENT
DTSTART;TZID=UTC:20230608T190000
DTEND;TZID=UTC:20230608T203000
DTSTAMP:20260423T170936
CREATED:20220910T013724Z
LAST-MODIFIED:20220910T013724Z
UID:927-1686250800-1686256200@www.adoptionisalovingoption.org
SUMMARY:Adoption Support Group Meeting (In Person or Virtual)
DESCRIPTION:This group is open to anyone interested in learning more about the process of adopting children\, in the process of adopting a child\, or already a parent through adoption. Come meet and talk to caring\, supportive families that share their experience with the adoption process and parenting.  Join us in person or virtually. \nEmail us at info@adoptionisalovingoption.org to attend and get any updates on meeting times and locations.
URL:https://www.adoptionisalovingoption.org/event/adoption-support-group-meeting-in-person-or-virtual-5/
LOCATION:Mary\, Mother of the Redeemer Church\, 1325 Upper State Road\, North Wales\, PA\, United States
END:VEVENT
BEGIN:VEVENT
DTSTART;TZID=UTC:20230511T190000
DTEND;TZID=UTC:20230511T203000
DTSTAMP:20260423T170936
CREATED:20220910T013615Z
LAST-MODIFIED:20220910T013615Z
UID:925-1683831600-1683837000@www.adoptionisalovingoption.org
SUMMARY:Adoption Support Group Meeting (In Person or Virtual)
DESCRIPTION:This group is open to anyone interested in learning more about the process of adopting children\, in the process of adopting a child\, or already a parent through adoption. Come meet and talk to caring\, supportive families that share their experience with the adoption process and parenting.  Join us in person or virtually. \nEmail us at info@adoptionisalovingoption.org to attend and get any updates on meeting times and locations.
URL:https://www.adoptionisalovingoption.org/event/adoption-support-group-meeting-in-person-or-virtual-4/
LOCATION:Mary\, Mother of the Redeemer Church\, 1325 Upper State Road\, North Wales\, PA\, United States
END:VEVENT
BEGIN:VEVENT
DTSTART;TZID=UTC:20230413T190000
DTEND;TZID=UTC:20230413T203000
DTSTAMP:20260423T170936
CREATED:20220910T013518Z
LAST-MODIFIED:20220910T013518Z
UID:923-1681412400-1681417800@www.adoptionisalovingoption.org
SUMMARY:Adoption Support Group Meeting (In Person or Virtual)
DESCRIPTION:This group is open to anyone interested in learning more about the process of adopting children\, in the process of adopting a child\, or already a parent through adoption. Come meet and talk to caring\, supportive families that share their experience with the adoption process and parenting.  Join us in person or virtually. \nEmail us at info@adoptionisalovingoption.org to attend and get any updates on meeting times and locations.
URL:https://www.adoptionisalovingoption.org/event/adoption-support-group-meeting-in-person-or-virtual-3/
LOCATION:Mary\, Mother of the Redeemer Church\, 1325 Upper State Road\, North Wales\, PA\, United States
END:VEVENT
BEGIN:VEVENT
DTSTART;TZID=UTC:20230309T190000
DTEND;TZID=UTC:20230309T203000
DTSTAMP:20260423T170936
CREATED:20220910T013403Z
LAST-MODIFIED:20220910T013403Z
UID:921-1678388400-1678393800@www.adoptionisalovingoption.org
SUMMARY:Adoption Support Group Meeting (In Person or Virtual)
DESCRIPTION:This group is open to anyone interested in learning more about the process of adopting children\, in the process of adopting a child\, or already a parent through adoption. Come meet and talk to caring\, supportive families that share their experience with the adoption process and parenting.  Join us in person or virtually. \nEmail us at info@adoptionisalovingoption.org to attend and get any updates on meeting times and locations.
URL:https://www.adoptionisalovingoption.org/event/adoption-support-group-meeting-in-person-or-virtual-2/
LOCATION:Mary\, Mother of the Redeemer Church\, 1325 Upper State Road\, North Wales\, PA\, United States
END:VEVENT
BEGIN:VEVENT
DTSTART;TZID=UTC:20230209T190000
DTEND;TZID=UTC:20230209T203000
DTSTAMP:20260423T170936
CREATED:20220910T013233Z
LAST-MODIFIED:20220910T013233Z
UID:919-1675969200-1675974600@www.adoptionisalovingoption.org
SUMMARY:Adoption Support Group Meeting (In Person or Virtual)
DESCRIPTION:This group is open to anyone interested in learning more about the process of adopting children\, in the process of adopting a child\, or already a parent through adoption. Come meet and talk to caring\, supportive families that share their experience with the adoption process and parenting.  Join us in person or virtually. \nEmail us at info@adoptionisalovingoption.org to attend and get any updates on meeting times and locations.
URL:https://www.adoptionisalovingoption.org/event/adoption-support-group-meeting-in-person-or-virtual/
LOCATION:Mary\, Mother of the Redeemer Church\, 1325 Upper State Road\, North Wales\, PA\, United States
END:VEVENT
BEGIN:VEVENT
DTSTART;TZID=UTC:20221110T190000
DTEND;TZID=UTC:20221110T203000
DTSTAMP:20260423T170936
CREATED:20220910T012848Z
LAST-MODIFIED:20220910T013054Z
UID:915-1668106800-1668112200@www.adoptionisalovingoption.org
SUMMARY:Adoption Support Group Meeting (In Person or Virtual)
DESCRIPTION:This group is open to anyone interested in learning more about the process of adopting children\, in the process of adopting a child\, or already a parent through adoption. Come meet and talk to caring\, supportive families that share their experience with the adoption process and parenting.  Join us in person or virtually. \nEmail us at info@adoptionisalovingoption.org to attend and get any updates on meeting times and locations.
URL:https://www.adoptionisalovingoption.org/event/adoption-support-group-meeting-in-person-or-virtually/
LOCATION:Mary\, Mother of the Redeemer Church\, 1325 Upper State Road\, North Wales\, PA\, United States
END:VEVENT
BEGIN:VEVENT
DTSTART;TZID=UTC:20221013T190000
DTEND;TZID=UTC:20221013T203000
DTSTAMP:20260423T170936
CREATED:20220910T011716Z
LAST-MODIFIED:20220910T014035Z
UID:910-1665687600-1665693000@www.adoptionisalovingoption.org
SUMMARY:Adoption Support Group Meeting (In Person or Virtual)
DESCRIPTION:This group is open to anyone interested in learning more about the process of adopting children\, in the process of adopting a child\, or already a parent through adoption. Come meet and talk to caring\, supportive families that share their experience with the adoption process and parenting. Join us in person or virtually. \nEmail us at info@adoptionisalovingoption.org to attend and get any updates on meeting times and locations.
URL:https://www.adoptionisalovingoption.org/event/adoption-support-group-meeting-24/
LOCATION:Mary\, Mother of the Redeemer Church\, 1325 Upper State Road\, North Wales\, PA\, United States
END:VEVENT
BEGIN:VEVENT
DTSTART;TZID=UTC:20220609T190000
DTEND;TZID=UTC:20220609T203000
DTSTAMP:20260423T170936
CREATED:20211024T205435Z
LAST-MODIFIED:20211024T205435Z
UID:905-1654801200-1654806600@www.adoptionisalovingoption.org
SUMMARY:Adoption Support Group Meeting (Virtual)
DESCRIPTION:We’re meeting virtually! Join us! \nThis group is open to anyone interested in learning more about the process of adopting children\, in the process of adopting a child\, or already a parent through adoption. Come meet and talk to caring\, supportive families that share their experience with the adoption process and parenting. \nEmail us at info@adoptionisalovingoption.org to attend and get any updates on meeting times and locations.
URL:https://www.adoptionisalovingoption.org/event/adoption-support-group-meeting-virtual-18/
LOCATION:PA
END:VEVENT
BEGIN:VEVENT
DTSTART;TZID=UTC:20220512T190000
DTEND;TZID=UTC:20220512T203000
DTSTAMP:20260423T170936
CREATED:20211024T205337Z
LAST-MODIFIED:20211024T205337Z
UID:903-1652382000-1652387400@www.adoptionisalovingoption.org
SUMMARY:Adoption Support Group Meeting (Virtual)
DESCRIPTION:We’re meeting virtually! Join us! \nThis group is open to anyone interested in learning more about the process of adopting children\, in the process of adopting a child\, or already a parent through adoption. Come meet and talk to caring\, supportive families that share their experience with the adoption process and parenting. \nEmail us at info@adoptionisalovingoption.org to attend and get any updates on meeting times and locations.
URL:https://www.adoptionisalovingoption.org/event/adoption-support-group-meeting-virtual-17/
LOCATION:PA
END:VEVENT
BEGIN:VEVENT
DTSTART;TZID=UTC:20220414T190000
DTEND;TZID=UTC:20220414T203000
DTSTAMP:20260423T170936
CREATED:20211024T205246Z
LAST-MODIFIED:20211024T205246Z
UID:901-1649962800-1649968200@www.adoptionisalovingoption.org
SUMMARY:Adoption Support Group Meeting (Virtual)
DESCRIPTION:We’re meeting virtually! Join us! \nThis group is open to anyone interested in learning more about the process of adopting children\, in the process of adopting a child\, or already a parent through adoption. Come meet and talk to caring\, supportive families that share their experience with the adoption process and parenting. \nEmail us at info@adoptionisalovingoption.org to attend and get any updates on meeting times and locations.
URL:https://www.adoptionisalovingoption.org/event/adoption-support-group-meeting-virtual-16/
LOCATION:PA
END:VEVENT
BEGIN:VEVENT
DTSTART;TZID=UTC:20220310T190000
DTEND;TZID=UTC:20220310T203000
DTSTAMP:20260423T170936
CREATED:20211024T205149Z
LAST-MODIFIED:20211024T205149Z
UID:899-1646938800-1646944200@www.adoptionisalovingoption.org
SUMMARY:Adoption Support Group Meeting (Virtual)
DESCRIPTION:We’re meeting virtually! Join us! \nThis group is open to anyone interested in learning more about the process of adopting children\, in the process of adopting a child\, or already a parent through adoption. Come meet and talk to caring\, supportive families that share their experience with the adoption process and parenting. \nEmail us at info@adoptionisalovingoption.org to attend and get any updates on meeting times and locations.
URL:https://www.adoptionisalovingoption.org/event/adoption-support-group-meeting-virtual-15/
LOCATION:PA
END:VEVENT
BEGIN:VEVENT
DTSTART;TZID=UTC:20220210T190000
DTEND;TZID=UTC:20220210T203000
DTSTAMP:20260423T170936
CREATED:20211024T205056Z
LAST-MODIFIED:20211024T205056Z
UID:897-1644519600-1644525000@www.adoptionisalovingoption.org
SUMMARY:Adoption Support Group Meeting (Virtual)
DESCRIPTION:We’re meeting virtually! Join us! \nThis group is open to anyone interested in learning more about the process of adopting children\, in the process of adopting a child\, or already a parent through adoption. Come meet and talk to caring\, supportive families that share their experience with the adoption process and parenting. \nEmail us at info@adoptionisalovingoption.org to attend and get any updates on meeting times and locations.
URL:https://www.adoptionisalovingoption.org/event/adoption-support-group-meeting-virtual-14/
LOCATION:PA
END:VEVENT
BEGIN:VEVENT
DTSTART;TZID=UTC:20220113T190000
DTEND;TZID=UTC:20220113T203000
DTSTAMP:20260423T170936
CREATED:20211024T204917Z
LAST-MODIFIED:20211024T204917Z
UID:895-1642100400-1642105800@www.adoptionisalovingoption.org
SUMMARY:Adoption Support Group Meeting (Virtual)
DESCRIPTION:We’re meeting virtually! Join us! \nThis group is open to anyone interested in learning more about the process of adopting children\, in the process of adopting a child\, or already a parent through adoption. Come meet and talk to caring\, supportive families that share their experience with the adoption process and parenting. \nEmail us at info@adoptionisalovingoption.org to attend and get any updates on meeting times and locations.
URL:https://www.adoptionisalovingoption.org/event/adoption-support-group-meeting-virtual-13/
LOCATION:PA
END:VEVENT
BEGIN:VEVENT
DTSTART;TZID=UTC:20211111T190000
DTEND;TZID=UTC:20211111T203000
DTSTAMP:20260423T170936
CREATED:20210708T070453Z
LAST-MODIFIED:20211024T204331Z
UID:892-1636657200-1636662600@www.adoptionisalovingoption.org
SUMMARY:Adoption Support Group Meeting (Virtual)
DESCRIPTION:We’re meeting virtually! Join us! \nThis group is open to anyone interested in learning more about the process of adopting children\, in the process of adopting a child\, or already a parent through adoption. Come meet and talk to caring\, supportive families that share their experience with the adoption process and parenting. \nEmail us at info@adoptionisalovingoption.org to attend and get any updates on meeting times and locations.
URL:https://www.adoptionisalovingoption.org/event/adoption-support-group-meeting-virtual-9/
LOCATION:PA
END:VEVENT
BEGIN:VEVENT
DTSTART;TZID=UTC:20211008T190000
DTEND;TZID=UTC:20211008T203000
DTSTAMP:20260423T170936
CREATED:20210708T070628Z
LAST-MODIFIED:20210708T070628Z
UID:890-1633719600-1633725000@www.adoptionisalovingoption.org
SUMMARY:Adoption Support Group Meeting (Virtual)
DESCRIPTION:We’re meeting virtually! Join us! \nThis group is open to anyone interested in learning more about the process of adopting children\, in the process of adopting a child\, or already a parent through adoption. Come meet and talk to caring\, supportive families that share their experience with the adoption process and parenting. \nEmail us at info@adoptionisalovingoption.org to attend and get any updates on meeting times and locations.
URL:https://www.adoptionisalovingoption.org/event/adoption-support-group-meeting-virtual-12/
LOCATION:PA
END:VEVENT
BEGIN:VEVENT
DTSTART;TZID=UTC:20210910T190000
DTEND;TZID=UTC:20210910T203000
DTSTAMP:20260423T170936
CREATED:20210708T070606Z
LAST-MODIFIED:20210708T070606Z
UID:888-1631300400-1631305800@www.adoptionisalovingoption.org
SUMMARY:Adoption Support Group Meeting (Virtual)
DESCRIPTION:We’re meeting virtually! Join us! \nThis group is open to anyone interested in learning more about the process of adopting children\, in the process of adopting a child\, or already a parent through adoption. Come meet and talk to caring\, supportive families that share their experience with the adoption process and parenting. \nEmail us at info@adoptionisalovingoption.org to attend and get any updates on meeting times and locations.
URL:https://www.adoptionisalovingoption.org/event/adoption-support-group-meeting-virtual-11/
LOCATION:PA
END:VEVENT
BEGIN:VEVENT
DTSTART;TZID=UTC:20210813T190000
DTEND;TZID=UTC:20210813T203000
DTSTAMP:20260423T170936
CREATED:20210708T070549Z
LAST-MODIFIED:20210708T070549Z
UID:886-1628881200-1628886600@www.adoptionisalovingoption.org
SUMMARY:Adoption Support Group Meeting (Virtual)
DESCRIPTION:We’re meeting virtually! Join us! \nThis group is open to anyone interested in learning more about the process of adopting children\, in the process of adopting a child\, or already a parent through adoption. Come meet and talk to caring\, supportive families that share their experience with the adoption process and parenting. \nEmail us at info@adoptionisalovingoption.org to attend and get any updates on meeting times and locations.
URL:https://www.adoptionisalovingoption.org/event/adoption-support-group-meeting-virtual-10/
LOCATION:PA
END:VEVENT
BEGIN:VEVENT
DTSTART;TZID=UTC:20210610T190000
DTEND;TZID=UTC:20210610T203000
DTSTAMP:20260423T170936
CREATED:20201027T144714Z
LAST-MODIFIED:20201027T144714Z
UID:880-1623351600-1623357000@www.adoptionisalovingoption.org
SUMMARY:Adoption Support Group Meeting (Virtual)
DESCRIPTION:We’re meeting virtually! Join us! \nThis group is open to anyone interested in learning more about the process of adopting children\, in the process of adopting a child\, or already a parent through adoption. Come meet and talk to caring\, supportive families that share their experience with the adoption process and parenting. \nEmail us at info@adoptionisalovingoption.org to attend and get any updates on meeting times and locations.
URL:https://www.adoptionisalovingoption.org/event/adoption-support-group-meeting-virtual/
LOCATION:PA
END:VEVENT
BEGIN:VEVENT
DTSTART;TZID=UTC:20210513T190000
DTEND;TZID=UTC:20210513T203000
DTSTAMP:20260423T170936
CREATED:20201027T145051Z
LAST-MODIFIED:20201027T145051Z
UID:878-1620932400-1620937800@www.adoptionisalovingoption.org
SUMMARY:Adoption Support Group Meeting (Virtual)
DESCRIPTION:We’re meeting virtually! Join us! \nThis group is open to anyone interested in learning more about the process of adopting children\, in the process of adopting a child\, or already a parent through adoption. Come meet and talk to caring\, supportive families that share their experience with the adoption process and parenting. \nEmail us at info@adoptionisalovingoption.org to attend and get any updates on meeting times and locations.
URL:https://www.adoptionisalovingoption.org/event/adoption-support-group-meeting-virtual-4/
LOCATION:PA
END:VEVENT
BEGIN:VEVENT
DTSTART;TZID=UTC:20210408T190000
DTEND;TZID=UTC:20210408T203000
DTSTAMP:20260423T170936
CREATED:20201027T145121Z
LAST-MODIFIED:20201027T145438Z
UID:876-1617908400-1617913800@www.adoptionisalovingoption.org
SUMMARY:Adoption Support Group Meeting (Virtual)
DESCRIPTION:We’re meeting virtually! Join us! \nThis group is open to anyone interested in learning more about the process of adopting children\, in the process of adopting a child\, or already a parent through adoption. Come meet and talk to caring\, supportive families that share their experience with the adoption process and parenting. \nEmail us at info@adoptionisalovingoption.org to attend and get any updates on meeting times and locations.
URL:https://www.adoptionisalovingoption.org/event/adoption-support-group-meeting-virtual-5/
LOCATION:PA
END:VEVENT
BEGIN:VEVENT
DTSTART;TZID=UTC:20210311T190000
DTEND;TZID=UTC:20210311T203000
DTSTAMP:20260423T170936
CREATED:20201027T145140Z
LAST-MODIFIED:20201027T145140Z
UID:874-1615489200-1615494600@www.adoptionisalovingoption.org
SUMMARY:Adoption Support Group Meeting (Virtual)
DESCRIPTION:We’re meeting virtually! Join us! \nThis group is open to anyone interested in learning more about the process of adopting children\, in the process of adopting a child\, or already a parent through adoption. Come meet and talk to caring\, supportive families that share their experience with the adoption process and parenting. \nEmail us at info@adoptionisalovingoption.org to attend and get any updates on meeting times and locations.
URL:https://www.adoptionisalovingoption.org/event/adoption-support-group-meeting-virtual-6/
LOCATION:PA
END:VEVENT
BEGIN:VEVENT
DTSTART;TZID=UTC:20210211T190000
DTEND;TZID=UTC:20210211T203000
DTSTAMP:20260423T170936
CREATED:20201027T145203Z
LAST-MODIFIED:20201027T145203Z
UID:870-1613070000-1613075400@www.adoptionisalovingoption.org
SUMMARY:Adoption Support Group Meeting (Virtual)
DESCRIPTION:We’re meeting virtually! Join us! \nThis group is open to anyone interested in learning more about the process of adopting children\, in the process of adopting a child\, or already a parent through adoption. Come meet and talk to caring\, supportive families that share their experience with the adoption process and parenting. \nEmail us at info@adoptionisalovingoption.org to attend and get any updates on meeting times and locations.
URL:https://www.adoptionisalovingoption.org/event/adoption-support-group-meeting-virtual-7/
LOCATION:PA
END:VEVENT
BEGIN:VEVENT
DTSTART;TZID=UTC:20210114T190000
DTEND;TZID=UTC:20210114T203000
DTSTAMP:20260423T170936
CREATED:20201027T145227Z
LAST-MODIFIED:20201027T145227Z
UID:868-1610650800-1610656200@www.adoptionisalovingoption.org
SUMMARY:Adoption Support Group Meeting (Virtual)
DESCRIPTION:We’re meeting virtually! Join us! \nThis group is open to anyone interested in learning more about the process of adopting children\, in the process of adopting a child\, or already a parent through adoption. Come meet and talk to caring\, supportive families that share their experience with the adoption process and parenting. \nEmail us at info@adoptionisalovingoption.org to attend and get any updates on meeting times and locations.
URL:https://www.adoptionisalovingoption.org/event/adoption-support-group-meeting-virtual-8/
LOCATION:PA
END:VEVENT
BEGIN:VEVENT
DTSTART;TZID=UTC:20201210T190000
DTEND;TZID=UTC:20201210T203000
DTSTAMP:20260423T170936
CREATED:20201027T143254Z
LAST-MODIFIED:20201027T143718Z
UID:864-1607626800-1607632200@www.adoptionisalovingoption.org
SUMMARY:Adoption Support Group Meeting (Virtual)
DESCRIPTION:We’re meeting virtually! Join us! \nThis group is open to anyone interested in learning more about the process of adopting children\, in the process of adopting a child\, or already a parent through adoption. Come meet and talk to caring\, supportive families that share their experience with the adoption process and parenting. \nEmail us at info@adoptionisalovingoption.org to attend and get any updates on meeting times and locations.
URL:https://www.adoptionisalovingoption.org/event/adoption-support-group-meeting-virtual-2/
LOCATION:PA
END:VEVENT
BEGIN:VEVENT
DTSTART;TZID=UTC:20201112T190000
DTEND;TZID=UTC:20201112T203000
DTSTAMP:20260423T170936
CREATED:20201027T143427Z
LAST-MODIFIED:20201027T143604Z
UID:866-1605207600-1605213000@www.adoptionisalovingoption.org
SUMMARY:Adoption Support Group Meeting (Virtual)
DESCRIPTION:We’re meeting virtually! Join us! \nThis group is open to anyone interested in learning more about the process of adopting children\, in the process of adopting a child\, or already a parent through adoption. Come meet and talk to caring\, supportive families that share their experience with the adoption process and parenting. \nEmail us at info@adoptionisalovingoption.org to attend and get any updates on meeting times and locations.
URL:https://www.adoptionisalovingoption.org/event/adoption-support-group-meeting-virtual-3/
LOCATION:PA
END:VEVENT
BEGIN:VEVENT
DTSTART;TZID=UTC:20200611T190000
DTEND;TZID=UTC:20200611T203000
DTSTAMP:20260423T170936
CREATED:20190715T172831Z
LAST-MODIFIED:20190715T174530Z
UID:838-1591902000-1591907400@www.adoptionisalovingoption.org
SUMMARY:Adoption Support Group Meeting
DESCRIPTION:This group is open to anyone interested in learning more about the process of adopting children\, in the process of adopting a child\, or already a parent through adoption. Come meet and talk to caring\, supportive families that share their experience with the adoption process and parenting. Email us at info@adoptionisalovingoption.org to attend and get any updates on meeting times and locations.
URL:https://www.adoptionisalovingoption.org/event/adoption-support-group-9/
LOCATION:Mary\, Mother of the Redeemer Church\, 1325 Upper State Road\, North Wales\, PA\, United States
END:VEVENT
BEGIN:VEVENT
DTSTART;TZID=UTC:20200514T190000
DTEND;TZID=UTC:20200514T203000
DTSTAMP:20260423T170936
CREATED:20190715T172733Z
LAST-MODIFIED:20190715T174521Z
UID:836-1589482800-1589488200@www.adoptionisalovingoption.org
SUMMARY:Adoption Support Group  Meeting
DESCRIPTION:This group is open to anyone interested in learning more about the process of adopting children\, in the process of adopting a child\, or already a parent through adoption. Come meet and talk to caring\, supportive families that share their experience with the adoption process and parenting. Email us at info@adoptionisalovingoption.org to attend and get any updates on meeting times and locations.
URL:https://www.adoptionisalovingoption.org/event/adoption-support-group-8/
LOCATION:Mary\, Mother of the Redeemer Church\, 1325 Upper State Road\, North Wales\, PA\, United States
END:VEVENT
BEGIN:VEVENT
DTSTART;TZID=UTC:20200416T190000
DTEND;TZID=UTC:20200416T203000
DTSTAMP:20260423T170936
CREATED:20190715T172639Z
LAST-MODIFIED:20200304T194333Z
UID:834-1587063600-1587069000@www.adoptionisalovingoption.org
SUMMARY:Adoption Support Group Meeting
DESCRIPTION:This group is open to anyone interested in learning more about the process of adopting children\, in the process of adopting a child\, or already a parent through adoption. Come meet and talk to caring\, supportive families that share their experience with the adoption process and parenting. Email us at info@adoptionisalovingoption.org to attend and get any updates on meeting times and locations.
URL:https://www.adoptionisalovingoption.org/event/adoption-support-group-7/
LOCATION:Mary\, Mother of the Redeemer Church\, 1325 Upper State Road\, North Wales\, PA\, United States
END:VEVENT
BEGIN:VEVENT
DTSTART;TZID=UTC:20200319T190000
DTEND;TZID=UTC:20200319T203000
DTSTAMP:20260423T170936
CREATED:20190715T172549Z
LAST-MODIFIED:20200304T194409Z
UID:832-1584644400-1584649800@www.adoptionisalovingoption.org
SUMMARY:Adoption Support Group Meeting
DESCRIPTION:This group is open to anyone interested in learning more about the process of adopting children\, in the process of adopting a child\, or already a parent through adoption. Come meet and talk to caring\, supportive families that share their experience with the adoption process and parenting. Email us at info@adoptionisalovingoption.org to attend and get any updates on meeting times and locations.
URL:https://www.adoptionisalovingoption.org/event/adoption-support-group-6/
LOCATION:Mary\, Mother of the Redeemer Church\, 1325 Upper State Road\, North Wales\, PA\, United States
END:VEVENT
BEGIN:VEVENT
DTSTART;TZID=UTC:20200213T190000
DTEND;TZID=UTC:20200213T203000
DTSTAMP:20260423T170936
CREATED:20190715T172455Z
LAST-MODIFIED:20190715T174455Z
UID:830-1581620400-1581625800@www.adoptionisalovingoption.org
SUMMARY:Adoption Support Group Meeting
DESCRIPTION:This group is open to anyone interested in learning more about the process of adopting children\, in the process of adopting a child\, or already a parent through adoption. Come meet and talk to caring\, supportive families that share their experience with the adoption process and parenting. Email us at info@adoptionisalovingoption.org to attend and get any updates on meeting times and locations.
URL:https://www.adoptionisalovingoption.org/event/adoption-support-group-5/
LOCATION:Mary\, Mother of the Redeemer Church\, 1325 Upper State Road\, North Wales\, PA\, United States
END:VEVENT
END:VCALENDAR